Package: GSRI Version: 2.48.0 Command: /Library/Frameworks/R.framework/Resources/bin/R CMD build --keep-empty-dirs --no-resave-data GSRI StartedAt: 2023-10-15 18:46:02 -0400 (Sun, 15 Oct 2023) EndedAt: 2023-10-15 18:48:08 -0400 (Sun, 15 Oct 2023) EllapsedTime: 125.8 seconds RetCode: 0 Status: OK PackageFile: GSRI_2.48.0.tar.gz PackageFileSize: 339.4 KiB