Package: GSRI Version: 2.48.0 Command: rm -rf GSRI.buildbin-libdir && mkdir GSRI.buildbin-libdir && /Users/biocbuild/BBS/utils/build-universal.sh GSRI_2.48.0.tar.gz /Library/Frameworks/R.framework/Resources/bin/R GSRI.buildbin-libdir StartedAt: 2023-10-16 09:31:48 -0400 (Mon, 16 Oct 2023) EndedAt: 2023-10-16 09:33:06 -0400 (Mon, 16 Oct 2023) EllapsedTime: 78.4 seconds RetCode: 0 Status: OK PackageFile: GSRI_2.48.0.tgz PackageFileSize: 674.8 KiB