Package: GSEAmining Version: 1.10.0 Command: /home/biocbuild/bbs-3.17-bioc/R/bin/R CMD check --install=check:GSEAmining.install-out.txt --library=/home/biocbuild/bbs-3.17-bioc/R/site-library --timings GSEAmining_1.10.0.tar.gz StartedAt: 2023-10-15 21:52:47 -0400 (Sun, 15 Oct 2023) EndedAt: 2023-10-15 21:53:48 -0400 (Sun, 15 Oct 2023) EllapsedTime: 61.3 seconds RetCode: 1 Status: ERROR CheckDir: GSEAmining.Rcheck Warnings: NA