Package: GSEABenchmarkeR Version: 1.20.1 Command: chmod a+r GSEABenchmarkeR -R && F:\biocbuild\bbs-3.17-bioc\R\bin\R.exe CMD build --keep-empty-dirs --no-resave-data GSEABenchmarkeR StartedAt: 2023-10-15 19:43:18 -0400 (Sun, 15 Oct 2023) EndedAt: 2023-10-15 19:48:44 -0400 (Sun, 15 Oct 2023) EllapsedTime: 325.8 seconds RetCode: 0 Status: OK PackageFile: GSEABenchmarkeR_1.20.1.tar.gz PackageFileSize: 514.5 KiB