Package: GSEABenchmarkeR Version: 1.20.1 Command: /home/biocbuild/bbs-3.17-bioc/R/bin/R CMD INSTALL GSEABenchmarkeR StartedAt: 2023-10-15 15:49:10 -0400 (Sun, 15 Oct 2023) EndedAt: 2023-10-15 15:49:29 -0400 (Sun, 15 Oct 2023) EllapsedTime: 19.6 seconds RetCode: 0 Status: OK