Package: GSEABase Version: 1.62.0 Command: F:\biocbuild\bbs-3.17-bioc\R\bin\R.exe CMD check --no-multiarch --install=check:GSEABase.install-out.txt --library=F:\biocbuild\bbs-3.17-bioc\R\library --no-vignettes --timings GSEABase_1.62.0.tar.gz StartedAt: 2023-10-16 02:53:07 -0400 (Mon, 16 Oct 2023) EndedAt: 2023-10-16 02:55:24 -0400 (Mon, 16 Oct 2023) EllapsedTime: 136.8 seconds RetCode: 0 Status: OK CheckDir: GSEABase.Rcheck Warnings: 0