Package: GSEABase Version: 1.62.0 Command: chmod a+r GSEABase -R && F:\biocbuild\bbs-3.17-bioc\R\bin\R.exe CMD build --keep-empty-dirs --no-resave-data GSEABase StartedAt: 2023-10-15 19:43:13 -0400 (Sun, 15 Oct 2023) EndedAt: 2023-10-15 19:44:39 -0400 (Sun, 15 Oct 2023) EllapsedTime: 85.5 seconds RetCode: 0 Status: OK PackageFile: GSEABase_1.62.0.tar.gz PackageFileSize: 292.3 KiB