Package: GSEABase Version: 1.62.0 Command: /home/biocbuild/bbs-3.17-bioc/R/bin/R CMD build --keep-empty-dirs --no-resave-data GSEABase StartedAt: 2023-10-15 17:02:04 -0400 (Sun, 15 Oct 2023) EndedAt: 2023-10-15 17:03:05 -0400 (Sun, 15 Oct 2023) EllapsedTime: 61.2 seconds RetCode: 0 Status: OK PackageFile: GSEABase_1.62.0.tar.gz PackageFileSize: 292 KiB