Package: GSEABase Version: 1.62.0 Command: /Library/Frameworks/R.framework/Resources/bin/R CMD INSTALL GSEABase StartedAt: 2023-10-15 15:26:18 -0400 (Sun, 15 Oct 2023) EndedAt: 2023-10-15 15:27:25 -0400 (Sun, 15 Oct 2023) EllapsedTime: 67.4 seconds RetCode: 0 Status: OK