Package: GSEABase Version: 1.62.0 Command: rm -rf GSEABase.buildbin-libdir && mkdir GSEABase.buildbin-libdir && /Users/biocbuild/BBS/utils/build-universal.sh GSEABase_1.62.0.tar.gz /Library/Frameworks/R.framework/Resources/bin/R GSEABase.buildbin-libdir StartedAt: 2023-10-16 09:31:38 -0400 (Mon, 16 Oct 2023) EndedAt: 2023-10-16 09:32:52 -0400 (Mon, 16 Oct 2023) EllapsedTime: 74.4 seconds RetCode: 0 Status: OK PackageFile: GSEABase_1.62.0.tgz PackageFileSize: 1.006 MiB