Package: GSCA Version: 2.30.0 Command: chmod a+r GSCA -R && F:\biocbuild\bbs-3.17-bioc\R\bin\R.exe CMD build --keep-empty-dirs --no-resave-data GSCA StartedAt: 2023-10-15 19:42:52 -0400 (Sun, 15 Oct 2023) EndedAt: 2023-10-15 19:43:17 -0400 (Sun, 15 Oct 2023) EllapsedTime: 25.0 seconds RetCode: 0 Status: OK PackageFile: GSCA_2.30.0.tar.gz PackageFileSize: 2.187 MiB