Package: GSCA Version: 2.30.0 Command: rm -rf GSCA.buildbin-libdir && mkdir GSCA.buildbin-libdir && F:\biocbuild\bbs-3.17-bioc\R\bin\R.exe CMD INSTALL --build --library=GSCA.buildbin-libdir GSCA_2.30.0.tar.gz StartedAt: 2023-10-16 08:54:27 -0400 (Mon, 16 Oct 2023) EndedAt: 2023-10-16 08:54:47 -0400 (Mon, 16 Oct 2023) EllapsedTime: 19.1 seconds RetCode: 0 Status: OK PackageFile: GSCA_2.30.0.zip PackageFileSize: 2.246 MiB