Package: GSCA Version: 2.30.0 Command: /home/biocbuild/bbs-3.17-bioc/R/bin/R CMD INSTALL GSCA StartedAt: 2023-10-15 15:26:27 -0400 (Sun, 15 Oct 2023) EndedAt: 2023-10-15 15:26:33 -0400 (Sun, 15 Oct 2023) EllapsedTime: 5.7 seconds RetCode: 0 Status: OK