Package: GSALightning Version: 1.28.0 Command: chmod a+r GSALightning -R && F:\biocbuild\bbs-3.17-bioc\R\bin\R.exe CMD build --keep-empty-dirs --no-resave-data GSALightning StartedAt: 2023-10-15 19:42:31 -0400 (Sun, 15 Oct 2023) EndedAt: 2023-10-15 19:43:40 -0400 (Sun, 15 Oct 2023) EllapsedTime: 69.7 seconds RetCode: 0 Status: OK PackageFile: GSALightning_1.28.0.tar.gz PackageFileSize: 4.221 MiB