Package: GSALightning Version: 1.28.0 Command: rm -rf GSALightning.buildbin-libdir && mkdir GSALightning.buildbin-libdir && F:\biocbuild\bbs-3.17-bioc\R\bin\R.exe CMD INSTALL --build --library=GSALightning.buildbin-libdir GSALightning_1.28.0.tar.gz StartedAt: 2023-10-16 08:54:24 -0400 (Mon, 16 Oct 2023) EndedAt: 2023-10-16 08:54:44 -0400 (Mon, 16 Oct 2023) EllapsedTime: 19.3 seconds RetCode: 0 Status: OK PackageFile: GSALightning_1.28.0.zip PackageFileSize: 4.259 MiB