Package: GSALightning Version: 1.28.0 Command: /Library/Frameworks/R.framework/Resources/bin/R CMD check --install=check:GSALightning.install-out.txt --library=/Library/Frameworks/R.framework/Resources/library --no-vignettes --timings GSALightning_1.28.0.tar.gz StartedAt: 2023-10-16 02:25:17 -0400 (Mon, 16 Oct 2023) EndedAt: 2023-10-16 02:27:15 -0400 (Mon, 16 Oct 2023) EllapsedTime: 118.1 seconds RetCode: 0 Status: OK CheckDir: GSALightning.Rcheck Warnings: 0