Package: GRmetrics Version: 1.26.0 Command: F:\biocbuild\bbs-3.17-bioc\R\bin\R.exe CMD check --no-multiarch --install=check:GRmetrics.install-out.txt --library=F:\biocbuild\bbs-3.17-bioc\R\library --no-vignettes --timings GRmetrics_1.26.0.tar.gz StartedAt: 2023-10-16 02:50:56 -0400 (Mon, 16 Oct 2023) EndedAt: 2023-10-16 02:52:54 -0400 (Mon, 16 Oct 2023) EllapsedTime: 118.1 seconds RetCode: 0 Status: OK CheckDir: GRmetrics.Rcheck Warnings: 0