Package: GRmetrics Version: 1.26.0 Command: /home/biocbuild/bbs-3.17-bioc/R/bin/R CMD check --install=check:GRmetrics.install-out.txt --library=/home/biocbuild/bbs-3.17-bioc/R/site-library --timings GRmetrics_1.26.0.tar.gz StartedAt: 2023-10-15 21:50:20 -0400 (Sun, 15 Oct 2023) EndedAt: 2023-10-15 21:52:37 -0400 (Sun, 15 Oct 2023) EllapsedTime: 137.7 seconds RetCode: 0 Status: OK CheckDir: GRmetrics.Rcheck Warnings: 0