Package: GRmetrics Version: 1.26.0 Command: rm -rf GRmetrics.buildbin-libdir && mkdir GRmetrics.buildbin-libdir && /Users/biocbuild/BBS/utils/build-universal.sh GRmetrics_1.26.0.tar.gz /Library/Frameworks/R.framework/Resources/bin/R GRmetrics.buildbin-libdir StartedAt: 2023-10-16 09:31:22 -0400 (Mon, 16 Oct 2023) EndedAt: 2023-10-16 09:32:35 -0400 (Mon, 16 Oct 2023) EllapsedTime: 72.4 seconds RetCode: 0 Status: OK PackageFile: GRmetrics_1.26.0.tgz PackageFileSize: 1.954 MiB