git_url: https://git.bioconductor.org/packages/GRmetrics git_branch: RELEASE_3_17 git_last_commit: d23f87a git_last_commit_date: 2023-04-25 10:48:53 -0400 (Tue, 25 Apr 2023) Package: GRmetrics Version: 1.26.0 Maintainer: Nicholas Clark , Mario Medvedovic MaintainerEmail: medvedm at ucmail.uc.edu