Package: GRENITS Version: 1.52.1 Command: F:\biocbuild\bbs-3.17-bioc\R\bin\R.exe CMD INSTALL GRENITS StartedAt: 2023-10-15 16:02:18 -0400 (Sun, 15 Oct 2023) EndedAt: 2023-10-15 16:04:30 -0400 (Sun, 15 Oct 2023) EllapsedTime: 132.6 seconds RetCode: 0 Status: OK