Package: GRENITS Version: 1.52.1 Command: chmod a+r GRENITS -R && F:\biocbuild\bbs-3.17-bioc\R\bin\R.exe CMD build --keep-empty-dirs --no-resave-data GRENITS StartedAt: 2023-10-15 19:41:31 -0400 (Sun, 15 Oct 2023) EndedAt: 2023-10-15 19:43:36 -0400 (Sun, 15 Oct 2023) EllapsedTime: 125.4 seconds RetCode: 0 Status: OK PackageFile: GRENITS_1.52.1.tar.gz PackageFileSize: 151.3 KiB