Package: GRENITS Version: 1.52.1 Command: rm -rf GRENITS.buildbin-libdir && mkdir GRENITS.buildbin-libdir && F:\biocbuild\bbs-3.17-bioc\R\bin\R.exe CMD INSTALL --build --library=GRENITS.buildbin-libdir GRENITS_1.52.1.tar.gz StartedAt: 2023-10-16 08:54:14 -0400 (Mon, 16 Oct 2023) EndedAt: 2023-10-16 08:56:24 -0400 (Mon, 16 Oct 2023) EllapsedTime: 129.7 seconds RetCode: 0 Status: OK PackageFile: GRENITS_1.52.1.zip PackageFileSize: 734.5 KiB