Package: GPA Version: 1.12.0 Command: chmod a+r GPA -R && F:\biocbuild\bbs-3.17-bioc\R\bin\R.exe CMD build --keep-empty-dirs --no-resave-data GPA StartedAt: 2023-10-15 19:39:35 -0400 (Sun, 15 Oct 2023) EndedAt: 2023-10-15 19:42:21 -0400 (Sun, 15 Oct 2023) EllapsedTime: 165.9 seconds RetCode: 0 Status: OK PackageFile: GPA_1.12.0.tar.gz PackageFileSize: 185.5 KiB