Package: GPA Version: 1.12.0 Command: /Library/Frameworks/R.framework/Resources/bin/R CMD INSTALL GPA StartedAt: 2023-10-15 15:50:29 -0400 (Sun, 15 Oct 2023) EndedAt: 2023-10-15 15:51:30 -0400 (Sun, 15 Oct 2023) EllapsedTime: 61.4 seconds RetCode: 0 Status: OK