Package: GPA Version: 1.12.0 Command: /Library/Frameworks/R.framework/Resources/bin/R CMD build --keep-empty-dirs --no-resave-data GPA StartedAt: 2023-10-15 18:40:47 -0400 (Sun, 15 Oct 2023) EndedAt: 2023-10-15 18:44:38 -0400 (Sun, 15 Oct 2023) EllapsedTime: 230.9 seconds RetCode: 0 Status: OK PackageFile: GPA_1.12.0.tar.gz PackageFileSize: 311.6 KiB