Package: GOsummaries Version: 2.36.0 Command: rm -rf GOsummaries.buildbin-libdir && mkdir GOsummaries.buildbin-libdir && F:\biocbuild\bbs-3.17-bioc\R\bin\R.exe CMD INSTALL --build --library=GOsummaries.buildbin-libdir GOsummaries_2.36.0.tar.gz StartedAt: 2023-06-21 02:28:15 -0400 (Wed, 21 Jun 2023) EndedAt: 2023-06-21 02:28:50 -0400 (Wed, 21 Jun 2023) EllapsedTime: 35.1 seconds RetCode: 0 Status: OK PackageFile: GOsummaries_2.36.0.zip PackageFileSize: 2.805 MiB