Package: GOsummaries Version: 2.36.0 Command: /home/biocbuild/bbs-3.17-bioc/R/bin/R CMD INSTALL GOsummaries StartedAt: 2023-10-15 15:13:54 -0400 (Sun, 15 Oct 2023) EndedAt: 2023-10-15 15:14:06 -0400 (Sun, 15 Oct 2023) EllapsedTime: 11.2 seconds RetCode: 0 Status: OK