Package: GOsummaries Version: 2.36.0 Command: /home/biocbuild/bbs-3.17-bioc/R/bin/R CMD check --install=check:GOsummaries.install-out.txt --library=/home/biocbuild/bbs-3.17-bioc/R/site-library --timings GOsummaries_2.36.0.tar.gz StartedAt: 2023-06-20 22:07:05 -0400 (Tue, 20 Jun 2023) EndedAt: 2023-06-20 22:07:43 -0400 (Tue, 20 Jun 2023) EllapsedTime: 38.0 seconds RetCode: 0 Status: WARNINGS CheckDir: GOsummaries.Rcheck Warnings: 1