Package: GOsummaries Version: 2.36.0 Command: /home/biocbuild/bbs-3.17-bioc/R/bin/R CMD build --keep-empty-dirs --no-resave-data GOsummaries StartedAt: 2023-10-15 16:59:46 -0400 (Sun, 15 Oct 2023) EndedAt: 2023-10-15 17:00:05 -0400 (Sun, 15 Oct 2023) EllapsedTime: 18.6 seconds RetCode: 1 Status: ERROR PackageFile: None PackageFileSize: NA