Package: GOsummaries Version: 2.36.0 Command: /Library/Frameworks/R.framework/Resources/bin/R CMD INSTALL GOsummaries StartedAt: 2023-10-15 15:11:20 -0400 (Sun, 15 Oct 2023) EndedAt: 2023-10-15 15:11:57 -0400 (Sun, 15 Oct 2023) EllapsedTime: 36.9 seconds RetCode: 0 Status: OK