Package: GOsummaries Version: 2.36.0 Command: rm -rf GOsummaries.buildbin-libdir && mkdir GOsummaries.buildbin-libdir && /Users/biocbuild/BBS/utils/build-universal.sh GOsummaries_2.36.0.tar.gz /Library/Frameworks/R.framework/Resources/bin/R GOsummaries.buildbin-libdir StartedAt: 2023-06-21 09:50:06 -0400 (Wed, 21 Jun 2023) EndedAt: 2023-06-21 09:50:49 -0400 (Wed, 21 Jun 2023) EllapsedTime: 43.0 seconds RetCode: 0 Status: OK PackageFile: GOsummaries_2.36.0.tgz PackageFileSize: 2.48 MiB