Package: GOstats Version: 2.66.0 Command: F:\biocbuild\bbs-3.17-bioc\R\bin\R.exe CMD check --no-multiarch --install=check:GOstats.install-out.txt --library=F:\biocbuild\bbs-3.17-bioc\R\library --no-vignettes --timings GOstats_2.66.0.tar.gz StartedAt: 2023-10-16 02:46:45 -0400 (Mon, 16 Oct 2023) EndedAt: 2023-10-16 02:53:57 -0400 (Mon, 16 Oct 2023) EllapsedTime: 432.1 seconds RetCode: 0 Status: OK CheckDir: GOstats.Rcheck Warnings: 0