Package: GOstats Version: 2.66.0 Command: /home/biocbuild/bbs-3.17-bioc/R/bin/R CMD check --install=check:GOstats.install-out.txt --library=/home/biocbuild/bbs-3.17-bioc/R/site-library --timings GOstats_2.66.0.tar.gz StartedAt: 2023-10-15 21:47:27 -0400 (Sun, 15 Oct 2023) EndedAt: 2023-10-15 21:58:14 -0400 (Sun, 15 Oct 2023) EllapsedTime: 646.3 seconds RetCode: 0 Status: OK CheckDir: GOstats.Rcheck Warnings: 0