Package: GOstats Version: 2.66.0 Command: rm -rf GOstats.buildbin-libdir && mkdir GOstats.buildbin-libdir && /Users/biocbuild/BBS/utils/build-universal.sh GOstats_2.66.0.tar.gz /Library/Frameworks/R.framework/Resources/bin/R GOstats.buildbin-libdir StartedAt: 2023-10-16 09:30:26 -0400 (Mon, 16 Oct 2023) EndedAt: 2023-10-16 09:31:48 -0400 (Mon, 16 Oct 2023) EllapsedTime: 82.0 seconds RetCode: 0 Status: OK PackageFile: GOstats_2.66.0.tgz PackageFileSize: 1.763 MiB