Package: GOpro Version: 1.26.0 Command: F:\biocbuild\bbs-3.17-bioc\R\bin\R.exe CMD check --no-multiarch --install=check:GOpro.install-out.txt --library=F:\biocbuild\bbs-3.17-bioc\R\library --no-vignettes --timings GOpro_1.26.0.tar.gz StartedAt: 2023-10-16 02:44:52 -0400 (Mon, 16 Oct 2023) EndedAt: 2023-10-16 02:48:22 -0400 (Mon, 16 Oct 2023) EllapsedTime: 210.4 seconds RetCode: 0 Status: OK CheckDir: GOpro.Rcheck Warnings: 0