Package: GOpro Version: 1.26.0 Command: chmod a+r GOpro -R && F:\biocbuild\bbs-3.17-bioc\R\bin\R.exe CMD build --keep-empty-dirs --no-resave-data GOpro StartedAt: 2023-10-15 19:36:28 -0400 (Sun, 15 Oct 2023) EndedAt: 2023-10-15 19:37:41 -0400 (Sun, 15 Oct 2023) EllapsedTime: 73.0 seconds RetCode: 0 Status: OK PackageFile: GOpro_1.26.0.tar.gz PackageFileSize: 772.6 KiB