Package: GOpro Version: 1.26.0 Command: rm -rf GOpro.buildbin-libdir && mkdir GOpro.buildbin-libdir && F:\biocbuild\bbs-3.17-bioc\R\bin\R.exe CMD INSTALL --build --library=GOpro.buildbin-libdir GOpro_1.26.0.tar.gz StartedAt: 2023-10-16 08:53:25 -0400 (Mon, 16 Oct 2023) EndedAt: 2023-10-16 08:54:09 -0400 (Mon, 16 Oct 2023) EllapsedTime: 44.1 seconds RetCode: 0 Status: OK PackageFile: GOpro_1.26.0.zip PackageFileSize: 1.47 MiB