Package: GOpro Version: 1.26.0 Command: /home/biocbuild/bbs-3.17-bioc/R/bin/R CMD check --install=check:GOpro.install-out.txt --library=/home/biocbuild/bbs-3.17-bioc/R/site-library --timings GOpro_1.26.0.tar.gz StartedAt: 2023-10-15 21:45:30 -0400 (Sun, 15 Oct 2023) EndedAt: 2023-10-15 21:49:22 -0400 (Sun, 15 Oct 2023) EllapsedTime: 232.3 seconds RetCode: 0 Status: OK CheckDir: GOpro.Rcheck Warnings: 0