Package: GOpro Version: 1.26.0 Command: /Library/Frameworks/R.framework/Resources/bin/R CMD check --install=check:GOpro.install-out.txt --library=/Library/Frameworks/R.framework/Resources/library --no-vignettes --timings GOpro_1.26.0.tar.gz StartedAt: 2023-10-16 02:18:35 -0400 (Mon, 16 Oct 2023) EndedAt: 2023-10-16 02:27:08 -0400 (Mon, 16 Oct 2023) EllapsedTime: 513.0 seconds RetCode: 0 Status: OK CheckDir: GOpro.Rcheck Warnings: 0