Package: GOpro Version: 1.26.0 Command: /Library/Frameworks/R.framework/Resources/bin/R CMD build --keep-empty-dirs --no-resave-data GOpro StartedAt: 2023-10-15 18:38:50 -0400 (Sun, 15 Oct 2023) EndedAt: 2023-10-15 18:41:30 -0400 (Sun, 15 Oct 2023) EllapsedTime: 159.9 seconds RetCode: 0 Status: OK PackageFile: GOpro_1.26.0.tar.gz PackageFileSize: 1.043 MiB