Package: GOfuncR Version: 1.20.0 Command: /Library/Frameworks/R.framework/Resources/bin/R CMD build --keep-empty-dirs --no-resave-data GOfuncR StartedAt: 2023-10-15 18:38:49 -0400 (Sun, 15 Oct 2023) EndedAt: 2023-10-15 18:40:14 -0400 (Sun, 15 Oct 2023) EllapsedTime: 85.0 seconds RetCode: 1 Status: ERROR PackageFile: None PackageFileSize: NA