Package: GOfuncR Version: 1.19.0 Command: rm -rf GOfuncR.buildbin-libdir && mkdir GOfuncR.buildbin-libdir && /Users/biocbuild/BBS/utils/build-universal.sh GOfuncR_1.19.0.tar.gz /Library/Frameworks/R.framework/Resources/bin/R GOfuncR.buildbin-libdir StartedAt: 2023-03-16 09:16:07 -0400 (Thu, 16 Mar 2023) EndedAt: 2023-03-16 09:23:56 -0400 (Thu, 16 Mar 2023) EllapsedTime: 469.4 seconds RetCode: 0 Status: OK PackageFile: GOfuncR_1.19.0.tgz PackageFileSize: 4.216 MiB