Package: GOexpress Version: 1.34.0 Command: /home/biocbuild/bbs-3.17-bioc/R/bin/R CMD INSTALL GOexpress StartedAt: 2023-10-15 15:20:47 -0400 (Sun, 15 Oct 2023) EndedAt: 2023-10-15 15:21:06 -0400 (Sun, 15 Oct 2023) EllapsedTime: 18.9 seconds RetCode: 0 Status: OK