Package: GOexpress Version: 1.34.0 Command: /Library/Frameworks/R.framework/Resources/bin/R CMD check --install=check:GOexpress.install-out.txt --library=/Library/Frameworks/R.framework/Resources/library --no-vignettes --timings GOexpress_1.34.0.tar.gz StartedAt: 2023-10-16 02:18:15 -0400 (Mon, 16 Oct 2023) EndedAt: 2023-10-16 02:23:52 -0400 (Mon, 16 Oct 2023) EllapsedTime: 336.0 seconds RetCode: 0 Status: OK CheckDir: GOexpress.Rcheck Warnings: 0