Package: GOexpress Version: 1.34.0 Command: rm -rf GOexpress.buildbin-libdir && mkdir GOexpress.buildbin-libdir && /Users/biocbuild/BBS/utils/build-universal.sh GOexpress_1.34.0.tar.gz /Library/Frameworks/R.framework/Resources/bin/R GOexpress.buildbin-libdir StartedAt: 2023-10-16 09:30:09 -0400 (Mon, 16 Oct 2023) EndedAt: 2023-10-16 09:31:22 -0400 (Mon, 16 Oct 2023) EllapsedTime: 72.7 seconds RetCode: 0 Status: OK PackageFile: GOexpress_1.34.0.tgz PackageFileSize: 3.025 MiB