Package: GOTHiC Version: 1.36.0 Command: /home/biocbuild/bbs-3.17-bioc/R/bin/R CMD INSTALL GOTHiC StartedAt: 2023-10-15 15:27:13 -0400 (Sun, 15 Oct 2023) EndedAt: 2023-10-15 15:27:50 -0400 (Sun, 15 Oct 2023) EllapsedTime: 36.6 seconds RetCode: 0 Status: OK