Package: GOTHiC Version: 1.36.0 Command: /home/biocbuild/bbs-3.17-bioc/R/bin/R CMD build --keep-empty-dirs --no-resave-data GOTHiC StartedAt: 2023-10-15 16:59:53 -0400 (Sun, 15 Oct 2023) EndedAt: 2023-10-15 17:00:29 -0400 (Sun, 15 Oct 2023) EllapsedTime: 36.6 seconds RetCode: 0 Status: OK PackageFile: GOTHiC_1.36.0.tar.gz PackageFileSize: 1.568 MiB