Package: GOTHiC Version: 1.36.0 Command: /Library/Frameworks/R.framework/Resources/bin/R CMD INSTALL GOTHiC StartedAt: 2023-10-15 15:36:29 -0400 (Sun, 15 Oct 2023) EndedAt: 2023-10-15 15:38:25 -0400 (Sun, 15 Oct 2023) EllapsedTime: 115.5 seconds RetCode: 0 Status: OK