Package: GOTHiC Version: 1.36.0 Command: /Library/Frameworks/R.framework/Resources/bin/R CMD build --keep-empty-dirs --no-resave-data GOTHiC StartedAt: 2023-10-15 18:40:28 -0400 (Sun, 15 Oct 2023) EndedAt: 2023-10-15 18:42:01 -0400 (Sun, 15 Oct 2023) EllapsedTime: 93.1 seconds RetCode: 0 Status: OK PackageFile: GOTHiC_1.36.0.tar.gz PackageFileSize: 1.697 MiB